BEGIN:VCALENDAR
VERSION:2.0
PRODID:-//hacksw/handcal//NONSGML v1.0//EN
CALSCALE:GREGORIAN
BEGIN:VEVENT
ORGANIZER;CN=Unitil Corp:MAILTO:no-reply@mail.gcs-web.com
DTEND:
UID:3df9f690-3777-4d86-98e4-e0daba4d3888
DTSTAMP:1776879119
LOCATION:https://edge.media-server.com/mmc/p/8h4o5v9g
DESCRIPTION:Event Details https://investors.unitil.com/events/event-details/q1-2026-unitil-earnings-conference-call\n\nWebcast: https://edge.media-server.com/mmc/p/8h4o5v9g
URL;VALUE=URI:https://edge.media-server.com/mmc/p/8h4o5v9g
SUMMARY:Unitil Corp - Q1 2026 Unitil Earnings Conference Call
DTSTART:20260505T180000Z
END:VEVENT
END:VCALENDAR